BEGIN:VCALENDAR
VERSION:2.0
PRODID:-//LivingNow Magazine - ECPv4.6.21//NONSGML v1.0//EN
CALSCALE:GREGORIAN
METHOD:PUBLISH
X-WR-CALNAME:LivingNow Magazine
X-ORIGINAL-URL:https://livingnow.com.au
X-WR-CALDESC:Events for LivingNow Magazine
BEGIN:VEVENT
DTSTART;TZID=Australia/Melbourne:20200205T193000
DTEND;TZID=Australia/Melbourne:20200205T210000
DTSTAMP:20200301T151813
CREATED:20170314T000804Z
LAST-MODIFIED:20170314T000804Z
UID:71575-1580931000-1580936400@livingnow.com.au
SUMMARY:Meditation and mindfulness
DESCRIPTION:First Wednesday of every month learn new ways to be still\, become mindful and relax. Learn different meditation techniques\, ways to release negativity and be more in tune with yourself and the universe. Spaces are limited so must call first 0414680713 \nShare this post 
URL:https://livingnow.com.au/event/meditation-and-mindfulness/2020-02-05/
LOCATION:36 Gipps Road\, Greystanes\, NSW\, 2145\, Australia
GEO:-33.8300879;150.9283757
X-APPLE-STRUCTURED-LOCATION;VALUE=URI;X-ADDRESS=36 Gipps Road Greystanes NSW 2145 Australia;X-APPLE-RADIUS=500;X-TITLE=36 Gipps Road:geo:150.9283757,-33.8300879
ATTACH;FMTTYPE=image/jpeg:https://1v6jum11hf6o3y5ld42k7waz-wpengine.netdna-ssl.com/wp-content/uploads/2017/03/meditation.jpg
ORGANIZER;CN="Jenetta%20Haim":MAILTO:info@stressfreemanagement.com.au
END:VEVENT
END:VCALENDAR