BEGIN:VCALENDAR
VERSION:2.0
PRODID:-//LivingNow Magazine - ECPv4.6.21//NONSGML v1.0//EN
CALSCALE:GREGORIAN
METHOD:PUBLISH
X-WR-CALNAME:LivingNow Magazine
X-ORIGINAL-URL:https://livingnow.com.au
X-WR-CALDESC:Events for LivingNow Magazine
BEGIN:VEVENT
DTSTART;TZID=Australia/Sydney:20200226T103000
DTEND;TZID=Australia/Sydney:20200226T120000
DTSTAMP:20200301T152243
CREATED:20170310T065305Z
LAST-MODIFIED:20170310T065305Z
UID:71635-1582713000-1582718400@livingnow.com.au
SUMMARY:Waking up over a cuppa
DESCRIPTION:This catch up is a casual conversation to help deepen people’s awareness of waking up in day to day life by sharing our experiences. We can focus on what the group feels would be valuable and I will bring ideas along just in case people haven’t anything specific in mind. People new to deepening their awareness are welcome. \nShare this post 
URL:https://livingnow.com.au/event/waking-up-over-a-cuppa/2020-02-26/
LOCATION:Australia
GEO:-25.274398;133.775136
ATTACH;FMTTYPE=image/jpeg:https://1v6jum11hf6o3y5ld42k7waz-wpengine.netdna-ssl.com/wp-content/uploads/2017/03/fractal-1398275_640.jpg
ORGANIZER;CN="Dragonfly%20ascending":MAILTO:dragonflyascending@iinet.net.au
END:VEVENT
END:VCALENDAR